BEGIN:VCALENDAR
VERSION:2.0
PRODID:-//Los Angeles Regional VBOC - ECPv6.15.20//NONSGML v1.0//EN
CALSCALE:GREGORIAN
METHOD:PUBLISH
X-WR-CALNAME:Los Angeles Regional VBOC
X-ORIGINAL-URL:https://lavboc.org
X-WR-CALDESC:Events for Los Angeles Regional VBOC
REFRESH-INTERVAL;VALUE=DURATION:PT1H
X-Robots-Tag:noindex
X-PUBLISHED-TTL:PT1H
BEGIN:VTIMEZONE
TZID:America/Los_Angeles
BEGIN:DAYLIGHT
TZOFFSETFROM:-0800
TZOFFSETTO:-0700
TZNAME:PDT
DTSTART:20230312T100000
END:DAYLIGHT
BEGIN:STANDARD
TZOFFSETFROM:-0700
TZOFFSETTO:-0800
TZNAME:PST
DTSTART:20231105T090000
END:STANDARD
BEGIN:DAYLIGHT
TZOFFSETFROM:-0800
TZOFFSETTO:-0700
TZNAME:PDT
DTSTART:20240310T100000
END:DAYLIGHT
BEGIN:STANDARD
TZOFFSETFROM:-0700
TZOFFSETTO:-0800
TZNAME:PST
DTSTART:20241103T090000
END:STANDARD
BEGIN:DAYLIGHT
TZOFFSETFROM:-0800
TZOFFSETTO:-0700
TZNAME:PDT
DTSTART:20250309T100000
END:DAYLIGHT
BEGIN:STANDARD
TZOFFSETFROM:-0700
TZOFFSETTO:-0800
TZNAME:PST
DTSTART:20251102T090000
END:STANDARD
BEGIN:DAYLIGHT
TZOFFSETFROM:-0800
TZOFFSETTO:-0700
TZNAME:PDT
DTSTART:20260308T100000
END:DAYLIGHT
BEGIN:STANDARD
TZOFFSETFROM:-0700
TZOFFSETTO:-0800
TZNAME:PST
DTSTART:20261101T090000
END:STANDARD
END:VTIMEZONE
BEGIN:VEVENT
DTSTART;TZID=America/Los_Angeles:20250327T100000
DTEND;TZID=America/Los_Angeles:20250327T113000
DTSTAMP:20260425T091804
CREATED:20250303T053303Z
LAST-MODIFIED:20250303T053303Z
UID:10000138-1743069600-1743075000@lavboc.org
SUMMARY:SDVOB Certification
DESCRIPTION:Welcome to our informative presentation designed specifically for Disabled Veteran-Owned Small Businesses (SDVOB). In this presentation we’re embarking on a journey through the latest updates in rules and regulations for SDVOB certification. These changes are vital for ensuring your business not only gains the recognition it deserves but also leverages the benefits and opportunities offered to veteran-owned enterprises. \nPresented by Nuha Nazy\, President RightSource Services\, LA SBDC and LA VBOC Advisor
URL:https://lavboc.org/training/sdvob-certification-03-27-2025/
LOCATION:Webinar
CATEGORIES:Government Certifications
ATTACH;FMTTYPE=image/jpeg:https://lavboc.org/wp-content/uploads/2024/12/sdvob-certifications-560x280-1.jpeg
END:VEVENT
BEGIN:VEVENT
DTSTART;TZID=America/Los_Angeles:20250304T180000
DTEND;TZID=America/Los_Angeles:20250304T190000
DTSTAMP:20260425T091804
CREATED:20250218T071827Z
LAST-MODIFIED:20250218T071827Z
UID:10000120-1741111200-1741114800@lavboc.org
SUMMARY:Shop Talk! Monthly Discussion Hour
DESCRIPTION:Do you wish you could talk to professionals or other entrepreneurs about their struggles and their successes? Or ask our consultants a question? \nJoin us for our new monthly Shop Talk discussion session.  We will open the session with a 15-minute overview of a particular topic and then open the floor to you to ask questions\, provide input\, and gain knowledge on anything related to your new or existing business.  We will have cameras and mics on for an interactive session – This will be YOUR hour!
URL:https://lavboc.org/training/shop-talk-monthly-discussion-hour-03-04-2025/
LOCATION:Webinar
CATEGORIES:Business Start-up/Preplanning,eCommerce,Government Certifications,Government Contracting,Marketing/Sales,Resources
ATTACH;FMTTYPE=image/png:https://lavboc.org/wp-content/uploads/2024/12/neoserra-shop-talk-blue.png
END:VEVENT
BEGIN:VEVENT
DTSTART;TZID=America/Los_Angeles:20250219T100000
DTEND;TZID=America/Los_Angeles:20250219T113000
DTSTAMP:20260425T091804
CREATED:20250218T070038Z
LAST-MODIFIED:20250218T070439Z
UID:10000044-1739959200-1739964600@lavboc.org
SUMMARY:SDVOB Certification
DESCRIPTION:Welcome to our informative presentation designed specifically for Disabled Veteran-Owned Small Businesses (SDVOB). In this presentation we’re embarking on a journey through the latest updates in rules and regulations for SDVOB certification. These changes are vital for ensuring your business not only gains the recognition it deserves but also leverages the benefits and opportunities offered to veteran-owned enterprises. \nPresented by Nuha Nazy\, President RightSource Services\, LA SBDC and LA VBOC Advisor
URL:https://lavboc.org/training/sdvob-certification-02-19-2025/
LOCATION:Webinar
CATEGORIES:Government Certifications
ATTACH;FMTTYPE=image/jpeg:https://lavboc.org/wp-content/uploads/2024/12/sdvob-certifications-560x280-1.jpeg
END:VEVENT
BEGIN:VEVENT
DTSTART;TZID=America/Los_Angeles:20250204T180000
DTEND;TZID=America/Los_Angeles:20250204T190000
DTSTAMP:20260425T091804
CREATED:20250123T182746Z
LAST-MODIFIED:20250123T182746Z
UID:10000057-1738692000-1738695600@lavboc.org
SUMMARY:Shop Talk! Monthly Discussion Hour
DESCRIPTION:Do you wish you could talk to professionals or other entrepreneurs about their struggles and their successes? Or ask our consultants a question? \nJoin us for our new monthly Shop Talk discussion session.  We will open the session with a 15-minute overview of a particular topic and then open the floor to you to ask questions\, provide input\, and gain knowledge on anything related to your new or existing business.  We will have cameras and mics on for an interactive session – This will be YOUR hour!
URL:https://lavboc.org/training/shop-talk-monthly-discussion-hour-02-04-25/
LOCATION:Webinar
CATEGORIES:Business Start-up/Preplanning,eCommerce,Government Certifications,Government Contracting,Marketing/Sales,Resources
ATTACH;FMTTYPE=image/png:https://lavboc.org/wp-content/uploads/2024/12/neoserra-shop-talk-blue.png
END:VEVENT
BEGIN:VEVENT
DTSTART;TZID=America/Los_Angeles:20241220T100000
DTEND;TZID=America/Los_Angeles:20241220T123000
DTSTAMP:20260425T091804
CREATED:20241202T035321Z
LAST-MODIFIED:20241202T035321Z
UID:10000051-1734688800-1734697800@lavboc.org
SUMMARY:Leveraging Certifications (When and Where You Should Certify)
DESCRIPTION:Unlock the power of “Leveraging Small Business Certifications” in this dynamic presentation. Small business certifications can be game-changers\, but navigating the certification landscape can be daunting. Join us to demystify the process and gain a comprehensive understanding of which certifications are right for your business. We’ll guide you through where and why to certify\, equipping you with the knowledge to make informed decisions. Discover how to leverage your certifications to unlock a world of opportunities and gain a competitive edge. Don’t miss this chance to harness the full potential of your small business through strategic certifications. \nEmilia Rogowska\,Vice President RightSource Services\, LA SBDC and LA VBOC Advisor \n\n\n 
URL:https://lavboc.org/training/leveraging-certifications-12-20-2024/
LOCATION:Webinar
CATEGORIES:Government Certifications,Government Contracting
ATTACH;FMTTYPE=image/jpeg:https://lavboc.org/wp-content/uploads/2024/12/leveraging-certifications-560x280-1.jpeg
END:VEVENT
BEGIN:VEVENT
DTSTART;TZID=America/Los_Angeles:20241204T100000
DTEND;TZID=America/Los_Angeles:20241204T113000
DTSTAMP:20260425T091804
CREATED:20241202T031753Z
LAST-MODIFIED:20241202T031854Z
UID:10000043-1733306400-1733311800@lavboc.org
SUMMARY:SDVOB Certification
DESCRIPTION:Welcome to our informative presentation designed specifically for Disabled Veteran-Owned Small Businesses (SDVOB). In this presentation we’re embarking on a journey through the latest updates in rules and regulations for SDVOB certification. These changes are vital for ensuring your business not only gains the recognition it deserves but also leverages the benefits and opportunities offered to veteran-owned enterprises. \nPresented by Nuha Nazy\, President RightSource Services\, LA SBDC and LA VBOC Advisor\n\n\n 
URL:https://lavboc.org/training/sdvob-certification-12-04-2024/
LOCATION:Webinar
CATEGORIES:Government Certifications
ATTACH;FMTTYPE=image/jpeg:https://lavboc.org/wp-content/uploads/2024/12/sdvob-certifications-560x280-1.jpeg
END:VEVENT
BEGIN:VEVENT
DTSTART;TZID=America/Los_Angeles:20241203T180000
DTEND;TZID=America/Los_Angeles:20241203T190000
DTSTAMP:20260425T091804
CREATED:20241202T040650Z
LAST-MODIFIED:20241202T040650Z
UID:10000052-1733248800-1733252400@lavboc.org
SUMMARY:Shop Talk! Monthly Discussion Hour
DESCRIPTION:Do you wish you could talk to professionals or other entrepreneurs about their struggles and their successes? Or ask our consultants a question? \nJoin us for our new monthly Shop Talk discussion session.  We will open the session with a 15-minute overview of a particular topic – this week is the reality of marketing – and then open the floor to you to ask questions\, provide input\, and gain knowledge on anything related to your new or existing business.  We will have cameras and mics on for an interactive session – This will be YOUR hour!
URL:https://lavboc.org/training/shop-talk-12-03-2024/
LOCATION:Webinar
CATEGORIES:Business Start-up/Preplanning,eCommerce,Government Certifications,Government Contracting,Marketing/Sales,Resources
ATTACH;FMTTYPE=image/png:https://lavboc.org/wp-content/uploads/2024/12/neoserra-shop-talk-blue.png
END:VEVENT
END:VCALENDAR