BEGIN:VCALENDAR
VERSION:2.0
PRODID:-//Los Angeles Regional VBOC - ECPv6.15.20//NONSGML v1.0//EN
CALSCALE:GREGORIAN
METHOD:PUBLISH
X-ORIGINAL-URL:https://lavboc.org
X-WR-CALDESC:Events for Los Angeles Regional VBOC
REFRESH-INTERVAL;VALUE=DURATION:PT1H
X-Robots-Tag:noindex
X-PUBLISHED-TTL:PT1H
BEGIN:VTIMEZONE
TZID:America/Los_Angeles
BEGIN:DAYLIGHT
TZOFFSETFROM:-0800
TZOFFSETTO:-0700
TZNAME:PDT
DTSTART:20250309T100000
END:DAYLIGHT
BEGIN:STANDARD
TZOFFSETFROM:-0700
TZOFFSETTO:-0800
TZNAME:PST
DTSTART:20251102T090000
END:STANDARD
BEGIN:DAYLIGHT
TZOFFSETFROM:-0800
TZOFFSETTO:-0700
TZNAME:PDT
DTSTART:20260308T100000
END:DAYLIGHT
BEGIN:STANDARD
TZOFFSETFROM:-0700
TZOFFSETTO:-0800
TZNAME:PST
DTSTART:20261101T090000
END:STANDARD
BEGIN:DAYLIGHT
TZOFFSETFROM:-0800
TZOFFSETTO:-0700
TZNAME:PDT
DTSTART:20270314T100000
END:DAYLIGHT
BEGIN:STANDARD
TZOFFSETFROM:-0700
TZOFFSETTO:-0800
TZNAME:PST
DTSTART:20271107T090000
END:STANDARD
END:VTIMEZONE
BEGIN:VEVENT
DTSTART;TZID=America/Los_Angeles:20260428T100000
DTEND;TZID=America/Los_Angeles:20260428T120000
DTSTAMP:20260423T075642
CREATED:20260405T015255Z
LAST-MODIFIED:20260405T015255Z
UID:10000285-1777370400-1777377600@lavboc.org
SUMMARY:Maximizing Procurement Opportunities with Strategic Marketing Materials
DESCRIPTION:In this session\, we’ll explore the vital role marketing materials play in the procurement space. Learn website best practices and pitfalls to avoid\, master the art of crafting tailored capability statements\, and gain insights into crafting compelling intro emails and effective follow-ups after networking events. Refine your elevator pitch to leave a lasting impression. Equip yourself with the tools and techniques to stand out in the procurement arena\, securing valuable contracts and growing your small business. Don’t miss this opportunity to elevate your marketing game in the procurement landscape. \nEmilia Rogowska\,Vice President RightSource Services\, LA SBDC and LA VBOC Advisor \n\n\n 
URL:https://lavboc.org/training/maximizing-procurement-opportunities-with-strategic-marketing-materials-4-28-2026/
LOCATION:Online
CATEGORIES:Government Contracting,Marketing/Sales
ATTACH;FMTTYPE=image/jpeg:https://lavboc.org/wp-content/uploads/2024/12/marketing-for-government-contracting-560x280-1.jpeg
END:VEVENT
END:VCALENDAR